BEGIN:VCALENDAR
VERSION:2.0
PRODID:-//ChamberMaster//Event Calendar 2.0//EN
METHOD:PUBLISH
X-PUBLISHED-TTL:P3D
REFRESH-INTERVAL:P3D
CALSCALE:GREGORIAN
BEGIN:VEVENT
DTSTART:20250228T143000Z
DTEND:20250228T153000Z
X-MICROSOFT-CDO-ALLDAYEVENT:FALSE
SUMMARY:Pascagoula Area Council
DESCRIPTION:Join us for Pascagoula Area Council
X-ALT-DESC;FMTTYPE=text/html:Join us for Pascagoula Area Council
LOCATION:Jackson County Chamber of Commerce 720 Krebs Ave.
UID:e.3597.1791
SEQUENCE:3
DTSTAMP:20260423T064817Z
URL:https://business.jcchamber.com/events/details/pascagoula-area-council-1791
END:VEVENT

END:VCALENDAR
