BEGIN:VCALENDAR
VERSION:2.0
PRODID:-//ChamberMaster//Event Calendar 2.0//EN
METHOD:PUBLISH
X-PUBLISHED-TTL:P3D
REFRESH-INTERVAL:P3D
CALSCALE:GREGORIAN
BEGIN:VEVENT
DTSTART:20250124T143000Z
DTEND:20250124T153000Z
X-MICROSOFT-CDO-ALLDAYEVENT:FALSE
SUMMARY:Pascagoula Area Council
DESCRIPTION:Join us for Pascagoula Area Council with Susannah Northrop of Pascagoula Main Street.
X-ALT-DESC;FMTTYPE=text/html:Join us for Pascagoula Area Council with Susannah Northrop of Pascagoula Main Street.
LOCATION:Jackson County Chamber of Commerce
UID:e.3597.1766
SEQUENCE:3
DTSTAMP:20260424T225938Z
URL:https://business.jcchamber.com/events/details/pascagoula-area-council-1766
END:VEVENT

END:VCALENDAR
