BEGIN:VCALENDAR
VERSION:2.0
PRODID:-//ChamberMaster//Event Calendar 2.0//EN
METHOD:PUBLISH
X-PUBLISHED-TTL:P3D
REFRESH-INTERVAL:P3D
CALSCALE:GREGORIAN
BEGIN:VEVENT
DTSTART:20260430T200000Z
DTEND:20260430T210000Z
X-MICROSOFT-CDO-ALLDAYEVENT:FALSE
SUMMARY:Homeownership 101 - Financial Education Class
DESCRIPTION:Habitat for Humanity MS Gulf Coast currently offers various financial education curriculums. All classes and coaching are currently offered free of charge\, and all courses are open to the public\, but registration is required.\n\nThis financial education class is called "Homeownership 101" Homeownership can be a very rewarding yet stressful experience. This course is specifically designed for those who feel they are ready to take the leap! It will provide information needed to avoid the many pitfalls of first-time homebuyers and outline the initial steps in the beginning of your homeownership journey. This course will also dispel those pesky homeownership myths\, and help potential buyers understand the pros and cons of ownership. If you've recently been bitten by the homeownership bug this is the first of many classes to help you prepare for a lifetime of sustainable homeownership!\n\n \n\nCurrently\, the class is offered virtually. Participants will be supplied a link after registration. The course is offered free of charge\; however\, you must register at least 24 hours before the class at https://hfhmgc.com/financial-education-schedule.\n\n\n\nQuestions? Call (228) 678-9100 or email chunt@hfhmgc.org.
X-ALT-DESC;FMTTYPE=text/html:<p style="margin-left:0px\; margin-right:0px"><span style="font-size:14px"><span style="font-family:arial\,helvetica\,sans-serif">Habitat for Humanity MS Gulf Coast currently offers various financial education curriculums. All classes and coaching are currently offered free of charge\, and all courses are open to the public\, but&nbsp\;<strong>registration</strong>&nbsp\;is required.</span></span></p>\n\n<p style="margin-left:0px\; margin-right:0px"><span style="font-size:14px"><span style="font-family:arial\,helvetica\,sans-serif"><span style="color:rgb(20\, 24\, 39)">This financial education class is called &ldquo\;Homeownership 101&rdquo\; Homeownership can be a very rewarding yet stressful experience. This course is specifically designed for those who feel they are ready to take the leap! It will provide information needed to avoid the many pitfalls of first-time homebuyers and outline the initial steps in the beginning of your homeownership journey. This course will also dispel those pesky homeownership myths\, and help potential buyers understand the pros and cons of ownership. If you&rsquo\;ve recently been bitten by the homeownership bug this is the first of many classes to help you prepare for a lifetime of sustainable homeownership!</span></span></span></p>\n\n<p style="margin-left:0px\; margin-right:0px">&nbsp\;</p>\n\n<p style="margin-left:0px\; margin-right:0px"><span style="font-size:14px"><span style="font-family:arial\,helvetica\,sans-serif">Currently\, the class is offered virtually.&nbsp\;<strong><em>Participants will be supplied a link after registration</em></strong>. The course is offered free of charge\;&nbsp\;<strong><em>however\, you must register at least 24 hours before the class at&nbsp\;</em></strong></span></span><a href="https://hfhmgc.com/financial-education-schedule/">https://hfhmgc.com/financial-education-schedule</a>.<br />\n<br />\n<span style="font-size:14px"><span style="font-family:arial\,helvetica\,sans-serif">Questions? Call (228) 678-9100 or email&nbsp\;<a href="mailto:chunt@hfhmgc.org?subject=Financial%20Foundations">chunt@hfhmgc.org</a>.&nbsp\;</span></span></p>\n
LOCATION:Virtually. Participants will be supplied a link after registration.
UID:e.3597.1894
SEQUENCE:3
DTSTAMP:20260424T090727Z
URL:https://business.jcchamber.com/events/details/homeownership-101-financial-education-class-04-30-2026-1894
END:VEVENT

END:VCALENDAR
